BEGIN:VCALENDAR
VERSION:2.0
PRODID:-//Zionism Calendar - ECPv5.3.1//NONSGML v1.0//EN
CALSCALE:GREGORIAN
METHOD:PUBLISH
X-WR-CALNAME:Zionism Calendar
X-ORIGINAL-URL:https://zionismcalendar.co.il
X-WR-CALDESC:אירועים ל Zionism Calendar
BEGIN:VTIMEZONE
TZID:Asia/Jerusalem
BEGIN:DAYLIGHT
TZOFFSETFROM:+0200
TZOFFSETTO:+0300
TZNAME:IDT
DTSTART:20210326T000000
END:DAYLIGHT
BEGIN:STANDARD
TZOFFSETFROM:+0300
TZOFFSETTO:+0200
TZNAME:IST
DTSTART:20211030T230000
END:STANDARD
END:VTIMEZONE
BEGIN:VEVENT
DTSTART;VALUE=DATE:20210501
DTEND;VALUE=DATE:20210502
DTSTAMP:20210518T161332
CREATED:20160801T073616Z
LAST-MODIFIED:20160801T073616Z
UID:10894-1619827200-1619913599@zionismcalendar.co.il
SUMMARY:ב-1 במאי 1925-קיבוץ גבעת השלושה עולה על הקרקע
DESCRIPTION:הקיבוץ המשתייך לתנועה הקיבוצית\, ממוקם כארבעה קילומטר מזרחית לפתח תקווה\, ליד מקורות נחל הירקון. הקיבוץ נקרא על שם שלושה מפועלי פתח תקווה – מנחם גרויליך\, שמואל שטרייפלר ואייזיק מרינג – אשר הואשמו במהלך מלחמת העולם הראשונה בריגול\, נשלחו על ידי השלטון העות'מאני לכלא דמשק\, עונו ומתו שם בשנת 1917. אנדרטה לזכרם נמצאת בקיבוץ עינת. הקיבוץ נוסד ב-1 במאי 1925 על ידי גרעינים שהשתייכו לתנועת "החלוץ": גרעין 'אחווה'\, פלוגת עין חרוד וקבוצת 'מעבר' (שאנשיה ברובם היו אף הם יוצאי 'אחווה'). בסוף שנות ה-20 וראשית ה-30 הצטרף לקיבוץ גרעין גדול של פועלים מ"קיבוץ חוצבי האבנים" בקלוסובה שבפולין. מיקומו המקורי של הקיבוץ היה ממערב לפתח תקווה.
URL:https://zionismcalendar.co.il/event/%d7%91-1-%d7%91%d7%9e%d7%90%d7%99-1925-%d7%a7%d7%99%d7%91%d7%95%d7%a5-%d7%92%d7%91%d7%a2%d7%aa-%d7%94%d7%a9%d7%9c%d7%95%d7%a9%d7%94-%d7%a2%d7%95%d7%9c%d7%94-%d7%a2%d7%9c-%d7%94%d7%a7%d7%a8%d7%a7%d7%a2/2021-05-01/
END:VEVENT
END:VCALENDAR