BEGIN:VCALENDAR
VERSION:2.0
PRODID:-//Zionism Calendar - ECPv5.3.1//NONSGML v1.0//EN
CALSCALE:GREGORIAN
METHOD:PUBLISH
X-WR-CALNAME:Zionism Calendar
X-ORIGINAL-URL:https://zionismcalendar.co.il
X-WR-CALDESC:אירועים ל Zionism Calendar
BEGIN:VTIMEZONE
TZID:Asia/Jerusalem
BEGIN:DAYLIGHT
TZOFFSETFROM:+0200
TZOFFSETTO:+0300
TZNAME:IDT
DTSTART:20210326T000000
END:DAYLIGHT
BEGIN:STANDARD
TZOFFSETFROM:+0300
TZOFFSETTO:+0200
TZNAME:IST
DTSTART:20211030T230000
END:STANDARD
END:VTIMEZONE
BEGIN:VEVENT
DTSTART;VALUE=DATE:20210417
DTEND;VALUE=DATE:20210418
DTSTAMP:20210513T114714
CREATED:20160722T180152Z
LAST-MODIFIED:20160722T180152Z
UID:10854-1618617600-1618703999@zionismcalendar.co.il
SUMMARY:ב-17 באפריל  1997-נפטר חיים הרצוג\, הנשיא השישי של מדינת ישראל
DESCRIPTION:הרצוג\, דיפלומט ומשפטן\, נולד בבלפסט\, צפון אירלנד\, בן לרב הראשי של יהדות אירלנד. בגיל 17 עלה לישראל\, למד בישיבה והצטרף לשורות ה"הגנה". היה הנשיא השישי של מדינת ישראל\, שגריר ישראל באו"ם\, אלוף בצה"ל\, חבר כנסת ועורך דין ישראלי. בין השנים 1975-1978 שימש כנציג ישראל באו"ם\, ונודע בתגובתו הקשה על החלטת האו"ם\, שהשוותה את הציונות לגזענות. נבחר לכנסת מטעם מפלגת "העבודה" בשנת 1981. כהונתו כנשיא ארכה בין השנים 1983 – 1993.
URL:https://zionismcalendar.co.il/event/%d7%91-17-%d7%91%d7%90%d7%a4%d7%a8%d7%99%d7%9c-1997-%d7%a0%d7%a4%d7%98%d7%a8-%d7%97%d7%99%d7%99%d7%9d-%d7%94%d7%a8%d7%a6%d7%95%d7%92-%d7%94%d7%a0%d7%a9%d7%99%d7%90-%d7%94%d7%a9%d7%99%d7%a9%d7%99/2021-04-17/
ATTACH;FMTTYPE=image/jpeg:https://zionismcalendar.co.il/wp-content/uploads/2016/07/73.jpg
END:VEVENT
END:VCALENDAR