BEGIN:VCALENDAR
VERSION:2.0
PRODID:-//Zionism Calendar - ECPv5.3.1//NONSGML v1.0//EN
CALSCALE:GREGORIAN
METHOD:PUBLISH
X-WR-CALNAME:Zionism Calendar
X-ORIGINAL-URL:https://zionismcalendar.co.il
X-WR-CALDESC:אירועים ל Zionism Calendar
BEGIN:VTIMEZONE
TZID:Asia/Jerusalem
BEGIN:DAYLIGHT
TZOFFSETFROM:+0200
TZOFFSETTO:+0300
TZNAME:IDT
DTSTART:20210326T000000
END:DAYLIGHT
BEGIN:STANDARD
TZOFFSETFROM:+0300
TZOFFSETTO:+0200
TZNAME:IST
DTSTART:20211030T230000
END:STANDARD
END:VTIMEZONE
BEGIN:VEVENT
DTSTART;VALUE=DATE:20210218
DTEND;VALUE=DATE:20210219
DTSTAMP:20210714T115947
CREATED:20151015T183912Z
LAST-MODIFIED:20151015T183912Z
UID:10481-1613606400-1613692799@zionismcalendar.co.il
SUMMARY:ב-18 בפברואר 1943 - צבא אנדרס מגיע לארץ ישראל עם ילדי טהראן
DESCRIPTION: ילדי טהראן היו ילדים יהודיים מפולין\, שברחו עם משפחותיהם בפרוץ מלחמת העולם השנייה אל הצד המזרחי בפולין\, ונתפסו על ידי הצבא האדום. הסובייטים הגלו חלק מהפליטים מזרחה לסיביר ולברית המועצות האסייתית וחלקם נסו לאזורים אלה עם פלישת גרמניה הנאצית לברית המועצות. ב-1942\, עם הקמת הצבא הפולני על אדמת ברית המועצות בפיקודו של גנרל ולדיסלב אנדרס שקיבל את הכינוי "צבא אנדרס"\, נספחו אליו אלפי פליטים ובהם הילדים. עם הגיע צבא אנדרס ב-1942 לאיראן שהייתה בשליטת הבריטים\, הקימה הסוכנות היהודית בטהראן מחנה לילדי הקבוצה שנקרא "בית הילד היהודי" וריכזה בו 719 ילדים. הילדים שם סבלו ממחסור במזון. בינואר 1943\, לאחר שהסוכנות היהודית השיגה רישיונות עלייה משלטונות המנדט ואוניה מהרשויות באיראן\, ארגנה את עלייתם לארץ ישראל. \nבתמונה: הנרייטה סאלד עם קבוצה מילדי טהראן.
URL:https://zionismcalendar.co.il/event/%d7%91-18-%d7%91%d7%a4%d7%91%d7%a8%d7%95%d7%90%d7%a8-1943-%d7%a6%d7%91%d7%90-%d7%90%d7%a0%d7%93%d7%a8%d7%a1-%d7%9e%d7%92%d7%99%d7%a2-%d7%9c%d7%90%d7%a8%d7%a5-%d7%99%d7%a9%d7%a8%d7%90%d7%9c-%d7%a2/2021-02-18/
ATTACH;FMTTYPE=image/jpeg:https://zionismcalendar.co.il/wp-content/uploads/2015/10/ילדי-טהראן.jpg
END:VEVENT
END:VCALENDAR