BEGIN:VCALENDAR
VERSION:2.0
PRODID:-//Zionism Calendar - ECPv5.3.1//NONSGML v1.0//EN
CALSCALE:GREGORIAN
METHOD:PUBLISH
X-WR-CALNAME:Zionism Calendar
X-ORIGINAL-URL:https://zionismcalendar.co.il
X-WR-CALDESC:אירועים ל Zionism Calendar
BEGIN:VTIMEZONE
TZID:Asia/Jerusalem
BEGIN:DAYLIGHT
TZOFFSETFROM:+0200
TZOFFSETTO:+0300
TZNAME:IDT
DTSTART:20210326T000000
END:DAYLIGHT
BEGIN:STANDARD
TZOFFSETFROM:+0300
TZOFFSETTO:+0200
TZNAME:IST
DTSTART:20211030T230000
END:STANDARD
END:VTIMEZONE
BEGIN:VEVENT
DTSTART;VALUE=DATE:20210218
DTEND;VALUE=DATE:20210219
DTSTAMP:20210714T120127
CREATED:20151015T184050Z
LAST-MODIFIED:20151015T184050Z
UID:10479-1613606400-1613692799@zionismcalendar.co.il
SUMMARY:ב-18 בפברואר 1947 - החזרת המנדט על ארץ ישראל לאו"ם
DESCRIPTION:שר החוץ הבריטי\, ארנסט בווין מודיע על החזרת המנדט על ארץ ישראל לידי האו"ם.
URL:https://zionismcalendar.co.il/event/%d7%91-18-%d7%91%d7%a4%d7%91%d7%a8%d7%95%d7%90%d7%a8-1947-%d7%94%d7%97%d7%96%d7%a8%d7%aa-%d7%94%d7%9e%d7%a0%d7%93%d7%98-%d7%a2%d7%9c-%d7%90%d7%a8%d7%a5-%d7%99%d7%a9%d7%a8%d7%90%d7%9c-%d7%9c%d7%90/2021-02-18/
END:VEVENT
END:VCALENDAR