BEGIN:VCALENDAR
VERSION:2.0
PRODID:-//Zionism Calendar - ECPv5.3.1//NONSGML v1.0//EN
CALSCALE:GREGORIAN
METHOD:PUBLISH
X-WR-CALNAME:Zionism Calendar
X-ORIGINAL-URL:https://zionismcalendar.co.il
X-WR-CALDESC:אירועים ל Zionism Calendar
BEGIN:VTIMEZONE
TZID:Asia/Jerusalem
BEGIN:DAYLIGHT
TZOFFSETFROM:+0200
TZOFFSETTO:+0300
TZNAME:IDT
DTSTART:20210326T000000
END:DAYLIGHT
BEGIN:STANDARD
TZOFFSETFROM:+0300
TZOFFSETTO:+0200
TZNAME:IST
DTSTART:20211030T230000
END:STANDARD
END:VTIMEZONE
BEGIN:VEVENT
DTSTART;VALUE=DATE:20210419
DTEND;VALUE=DATE:20210420
DTSTAMP:20210514T145042
CREATED:20160722T181110Z
LAST-MODIFIED:20160722T181110Z
UID:10862-1618790400-1618876799@zionismcalendar.co.il
SUMMARY:ב-19 באפריל  1938-אוניית המעפילים "ארטימיסיה א'" יוצאת מיוון
DESCRIPTION:אוניית המעפילים "ארטימיסיה א'" יוצאת מיוון כשעל סיפונה 128 מעפילים. המעפילים מצליחים להגיע לחופי הארץ מבלי להתגלות.
URL:https://zionismcalendar.co.il/event/%d7%91-19-%d7%91%d7%90%d7%a4%d7%a8%d7%99%d7%9c-1938-%d7%90%d7%95%d7%a0%d7%99%d7%99%d7%aa-%d7%94%d7%9e%d7%a2%d7%a4%d7%99%d7%9c%d7%99%d7%9d-%d7%90%d7%a8%d7%98%d7%99%d7%9e%d7%99%d7%a1%d7%99%d7%94/2021-04-19/
END:VEVENT
END:VCALENDAR