BEGIN:VCALENDAR
VERSION:2.0
PRODID:-//Zionism Calendar - ECPv5.3.1//NONSGML v1.0//EN
CALSCALE:GREGORIAN
METHOD:PUBLISH
X-WR-CALNAME:Zionism Calendar
X-ORIGINAL-URL:https://zionismcalendar.co.il
X-WR-CALDESC:אירועים ל Zionism Calendar
BEGIN:VTIMEZONE
TZID:Asia/Jerusalem
BEGIN:DAYLIGHT
TZOFFSETFROM:+0200
TZOFFSETTO:+0300
TZNAME:IDT
DTSTART:20210326T000000
END:DAYLIGHT
BEGIN:STANDARD
TZOFFSETFROM:+0300
TZOFFSETTO:+0200
TZNAME:IST
DTSTART:20211030T230000
END:STANDARD
END:VTIMEZONE
BEGIN:VEVENT
DTSTART;VALUE=DATE:20210402
DTEND;VALUE=DATE:20210403
DTSTAMP:20210504T074510
CREATED:20160719T112341Z
LAST-MODIFIED:20160719T112341Z
UID:10736-1617321600-1617407999@zionismcalendar.co.il
SUMMARY:ב-2 באפריל 1937-נפטר נתן בירנבאום
DESCRIPTION: נפטר נתן בירנבאום\, הוגה דעות יהודי אוסטרי\, נחשב לטובע המונח "ציונות". בירנבאום נולד ב-1864\, נודע בין היתר\, בשם העט מתתיהו אחר\,‏ היה הוגה דעות יהודי. בירנבאום החל את הקריירה שלו כציוני\, לאחר מכן נעשה יידישיסט ובסופו של דבר חזר בתשובה ומונה למזכירה של אגודת ישראל. בין היתר\, התפרסם כמי שטבע את המונחים ציונות ואוסטיודן.
URL:https://zionismcalendar.co.il/event/%d7%91-2-%d7%91%d7%90%d7%a4%d7%a8%d7%99%d7%9c-1937-%d7%a0%d7%a4%d7%98%d7%a8-%d7%a0%d7%aa%d7%9f-%d7%91%d7%99%d7%a8%d7%a0%d7%91%d7%90%d7%95%d7%9d/2021-04-02/
ATTACH;FMTTYPE=image/jpeg:https://zionismcalendar.co.il/wp-content/uploads/2016/07/110.jpg
END:VEVENT
END:VCALENDAR