BEGIN:VCALENDAR
VERSION:2.0
PRODID:-//Zionism Calendar - ECPv5.3.1//NONSGML v1.0//EN
CALSCALE:GREGORIAN
METHOD:PUBLISH
X-WR-CALNAME:Zionism Calendar
X-ORIGINAL-URL:https://zionismcalendar.co.il
X-WR-CALDESC:אירועים ל Zionism Calendar
BEGIN:VTIMEZONE
TZID:Asia/Jerusalem
BEGIN:DAYLIGHT
TZOFFSETFROM:+0200
TZOFFSETTO:+0300
TZNAME:IDT
DTSTART:20210326T000000
END:DAYLIGHT
BEGIN:STANDARD
TZOFFSETFROM:+0300
TZOFFSETTO:+0200
TZNAME:IST
DTSTART:20211030T230000
END:STANDARD
END:VTIMEZONE
BEGIN:VEVENT
DTSTART;VALUE=DATE:20210424
DTEND;VALUE=DATE:20210425
DTSTAMP:20210516T005950
CREATED:20160724T083213Z
LAST-MODIFIED:20160724T083213Z
UID:10877-1619222400-1619308799@zionismcalendar.co.il
SUMMARY:ב-24 באפריל 1944 קיבוץ חפץ חיים עולה על הקרקע
DESCRIPTION:חפץ חיים הוא קיבוץ דתי-לאומי ליד גדרה\, הוא היישוב הראשון שהקימה תנועת פועלי אגודת ישראל‏\, שהקימה גם את קיבוץ שעלבים ומספר מושבים. הקיבוץ הוא חלק ממועצה אזורית נחל שורק. הקיבוץ מונה כ-120 משפחות\, מופעלים בו שלושה גני מועצה\, מערכת גיל הרך הקיבוצית ובה כיתות תינוקיה\, פעוטון וגנון. \nתמונה: בית הכנסת בקיבוץ. מקור: ויקיפדיה.
URL:https://zionismcalendar.co.il/event/%d7%91-24-%d7%91%d7%90%d7%a4%d7%a8%d7%99%d7%9c-1944-%d7%a7%d7%99%d7%91%d7%95%d7%a5-%d7%97%d7%a4%d7%a5-%d7%97%d7%99%d7%99%d7%9d-%d7%a2%d7%95%d7%9c%d7%94-%d7%a2%d7%9c-%d7%94%d7%a7%d7%a8%d7%a7%d7%a2/2021-04-24/
ATTACH;FMTTYPE=image/jpeg:https://zionismcalendar.co.il/wp-content/uploads/2016/07/94.jpg
END:VEVENT
END:VCALENDAR