BEGIN:VCALENDAR
VERSION:2.0
PRODID:-//Zionism Calendar - ECPv5.3.1//NONSGML v1.0//EN
CALSCALE:GREGORIAN
METHOD:PUBLISH
X-WR-CALNAME:Zionism Calendar
X-ORIGINAL-URL:https://zionismcalendar.co.il
X-WR-CALDESC:אירועים ל Zionism Calendar
BEGIN:VTIMEZONE
TZID:Asia/Jerusalem
BEGIN:DAYLIGHT
TZOFFSETFROM:+0200
TZOFFSETTO:+0300
TZNAME:IDT
DTSTART:20210326T000000
END:DAYLIGHT
BEGIN:STANDARD
TZOFFSETFROM:+0300
TZOFFSETTO:+0200
TZNAME:IST
DTSTART:20211030T230000
END:STANDARD
END:VTIMEZONE
BEGIN:VEVENT
DTSTART;VALUE=DATE:20210328
DTEND;VALUE=DATE:20210329
DTSTAMP:20210501T144844
CREATED:20160717T191337Z
LAST-MODIFIED:20160717T191337Z
UID:10756-1616889600-1616975999@zionismcalendar.co.il
SUMMARY:ב-28 במרץ 1932-בתל אביב נפתחים בטקס חגיגי משחקי המכביה הראשונה
DESCRIPTION:המכביה או “המכביה העולמית” היא תחרות ספורט רב-ענפית המתקיימת מדי ארבע שנים בישראל בהשתתפות ספורטאים יהודים מרחבי העולם.
URL:https://zionismcalendar.co.il/event/%d7%91-28-%d7%91%d7%9e%d7%a8%d7%a5-1932/2021-03-28/
ATTACH;FMTTYPE=image/jpeg:https://zionismcalendar.co.il/wp-content/uploads/2016/07/311.jpg
END:VEVENT
END:VCALENDAR