BEGIN:VCALENDAR
VERSION:2.0
PRODID:-//Zionism Calendar - ECPv5.3.1//NONSGML v1.0//EN
CALSCALE:GREGORIAN
METHOD:PUBLISH
X-WR-CALNAME:Zionism Calendar
X-ORIGINAL-URL:https://zionismcalendar.co.il
X-WR-CALDESC:אירועים ל Zionism Calendar
BEGIN:VTIMEZONE
TZID:Asia/Jerusalem
BEGIN:DAYLIGHT
TZOFFSETFROM:+0200
TZOFFSETTO:+0300
TZNAME:IDT
DTSTART:20210326T000000
END:DAYLIGHT
BEGIN:STANDARD
TZOFFSETFROM:+0300
TZOFFSETTO:+0200
TZNAME:IST
DTSTART:20211030T230000
END:STANDARD
END:VTIMEZONE
BEGIN:VEVENT
DTSTART;VALUE=DATE:20210403
DTEND;VALUE=DATE:20210404
DTSTAMP:20210505T092240
CREATED:20160719T181802Z
LAST-MODIFIED:20160719T181802Z
UID:10730-1617408000-1617494399@zionismcalendar.co.il
SUMMARY:ב-3 באפריל 1947 - לוחמי האצ"ל מאיר פיינשטיין ודניאל אזולאי נידונים למוות בתליה
DESCRIPTION: עונשו של אזולאי הומתק למאסר עולם\, ואילו פיינשטיין ביכר להתאבד\, ביחד עם חברו\, לוחם הלח"י משה ברזני\, ולא להיות מוצא להורג בידי הבריטים.
URL:https://zionismcalendar.co.il/event/%d7%91-3-%d7%91%d7%90%d7%a4%d7%a8%d7%99%d7%9c-1947/2021-04-03/
ATTACH;FMTTYPE=image/jpeg:https://zionismcalendar.co.il/wp-content/uploads/2016/07/23.jpg
END:VEVENT
END:VCALENDAR