BEGIN:VCALENDAR
VERSION:2.0
PRODID:-//Zionism Calendar - ECPv5.3.1//NONSGML v1.0//EN
CALSCALE:GREGORIAN
METHOD:PUBLISH
X-WR-CALNAME:Zionism Calendar
X-ORIGINAL-URL:https://zionismcalendar.co.il
X-WR-CALDESC:אירועים ל Zionism Calendar
BEGIN:VTIMEZONE
TZID:Asia/Jerusalem
BEGIN:DAYLIGHT
TZOFFSETFROM:+0200
TZOFFSETTO:+0300
TZNAME:IDT
DTSTART:20210326T000000
END:DAYLIGHT
BEGIN:STANDARD
TZOFFSETFROM:+0300
TZOFFSETTO:+0200
TZNAME:IST
DTSTART:20211030T230000
END:STANDARD
END:VTIMEZONE
BEGIN:VEVENT
DTSTART;VALUE=DATE:20210331
DTEND;VALUE=DATE:20210401
DTSTAMP:20210502T233838
CREATED:20160717T193347Z
LAST-MODIFIED:20160717T193347Z
UID:10745-1617148800-1617235199@zionismcalendar.co.il
SUMMARY:ב-31 במרץ  1979-השיר 'הללויה' זוכה באירוויזיון
DESCRIPTION:גלי עטרי ולהקת חלב ודבש זוכים באירוויזיון בישראל עם השיר "הללויה". אירוויזיון 1979 היה האירוויזיון ה-24 ונערך בבנייני האומה שבירושלים\, ישראל. הגישו אותו שדרן הטלוויזיה דניאל פאר והזמרת ירדנה ארזי שייצגה את ישראל באירוויזיון 1976\, כחלק משלישיית שוקולד מנטה מסטיק. נציגיה של ישראל\, גלי עטרי ולהקת חלב ודבש ניצחו באירוויזיון הזה עם השיר "הללויה"\, אחד השירים המצליחים והאהובים ביותר בתחרות. זה היה ניצחון שני רצוף לישראל. \nתמונה: גלי עטרי ולהקת "חלב ודבש" מבצעים את השיר "הללויה" באירוויזיון 1979. מקור: ויקיפדיה.
URL:https://zionismcalendar.co.il/event/%d7%91-31-%d7%91%d7%9e%d7%a8%d7%a5-1979-%d7%94%d7%a9%d7%99%d7%a8-%d7%94%d7%9c%d7%9c%d7%95%d7%99%d7%94-%d7%96%d7%95%d7%9b%d7%94-%d7%91%d7%90%d7%99%d7%a8%d7%95%d7%95%d7%99%d7%96%d7%99%d7%95%d7%9f/2021-03-31/
ATTACH;FMTTYPE=image/jpeg:https://zionismcalendar.co.il/wp-content/uploads/2016/07/42.jpg
END:VEVENT
END:VCALENDAR