BEGIN:VCALENDAR
VERSION:2.0
PRODID:-//Zionism Calendar - ECPv5.3.1//NONSGML v1.0//EN
CALSCALE:GREGORIAN
METHOD:PUBLISH
X-WR-CALNAME:Zionism Calendar
X-ORIGINAL-URL:https://zionismcalendar.co.il
X-WR-CALDESC:אירועים ל Zionism Calendar
BEGIN:VTIMEZONE
TZID:Asia/Jerusalem
BEGIN:DAYLIGHT
TZOFFSETFROM:+0200
TZOFFSETTO:+0300
TZNAME:IDT
DTSTART:20210326T000000
END:DAYLIGHT
BEGIN:STANDARD
TZOFFSETFROM:+0300
TZOFFSETTO:+0200
TZNAME:IST
DTSTART:20211030T230000
END:STANDARD
END:VTIMEZONE
BEGIN:VEVENT
DTSTART;VALUE=DATE:20210208
DTEND;VALUE=DATE:20210209
DTSTAMP:20210707T041448
CREATED:20151009T165222Z
LAST-MODIFIED:20151009T165222Z
UID:10517-1612742400-1612828799@zionismcalendar.co.il
SUMMARY:ב-8 בפברואר 1947 - בריחת לוחמי האצ"ל ממחנה לטרון
DESCRIPTION:לוחמי האצ"ל נחום סלונים ויצחק פרידמן מצליחים להימלט ממחנה המעצר בלטרון. מחנה המעצר בלטרון היה מחנה מעצר שהוקם בלטרון על ידי שלטונות המנדט הבריטי בתחילת מלחמת העולם השנייה ואשר שימש לכליאת שבויי מלחמה גרמניים ואיטלקים וכן לכליאת אלפי תושבים של ארץ ישראל\, יהודים וערבים. ביניהם גם לוחמי המחתרות הציוניות. בתום המנדט הבריטי ננטש המחנה ונהרס בקרבות הקשים שהתנהלו במקום במלחמת העצמאות. \nבתמונה: כמה מן המנהיגים העצורים במחנה המעצר בלטרון. מקור: ויקיפדיה.
URL:https://zionismcalendar.co.il/event/%d7%91-8-%d7%91%d7%a4%d7%91%d7%a8%d7%95%d7%90%d7%a8-1947-%d7%91%d7%a8%d7%99%d7%97%d7%aa-%d7%9c%d7%95%d7%97%d7%9e%d7%99-%d7%94%d7%90%d7%a6%d7%9c-%d7%9e%d7%9e%d7%97%d7%a0%d7%94-%d7%9c%d7%98%d7%a8/2021-02-08/
ATTACH;FMTTYPE=image/jpeg:https://zionismcalendar.co.il/wp-content/uploads/2015/10/כמה-מן-המנהיגים-העצורים-במחנה-המעצר-בלטרון.jpg
END:VEVENT
END:VCALENDAR