BEGIN:VCALENDAR
VERSION:2.0
PRODID:-//Zionism Calendar - ECPv5.3.1//NONSGML v1.0//EN
CALSCALE:GREGORIAN
METHOD:PUBLISH
X-WR-CALNAME:Zionism Calendar
X-ORIGINAL-URL:https://zionismcalendar.co.il
X-WR-CALDESC:אירועים ל Zionism Calendar
BEGIN:VTIMEZONE
TZID:Asia/Jerusalem
BEGIN:DAYLIGHT
TZOFFSETFROM:+0200
TZOFFSETTO:+0300
TZNAME:IDT
DTSTART:20210326T000000
END:DAYLIGHT
BEGIN:STANDARD
TZOFFSETFROM:+0300
TZOFFSETTO:+0200
TZNAME:IST
DTSTART:20211030T230000
END:STANDARD
END:VTIMEZONE
BEGIN:VEVENT
DTSTART;VALUE=DATE:20210313
DTEND;VALUE=DATE:20210314
DTSTAMP:20210523T004959
CREATED:20160715T192528Z
LAST-MODIFIED:20160715T192528Z
UID:10800-1615593600-1615679999@zionismcalendar.co.il
SUMMARY:ב-13 במרץ 1940-שידורה הראשון של תחנת 'קול ישראל'
DESCRIPTION:"קול ישראל"\, תחנת הרדיו המחתרתית של ארגון ההגנה\, משדרת את שידורה הראשון מרח' בן יהודה בתל אביב. "קול ישראל" מופעל במסגרת רשות השידור מתוקף חוק הרשות. השידור הראשון של קול ישראל היה שידור הכרזת העצמאות\, הבסיס להקמתו היה הרדיו המחתרתי של ארגון ההגנה – "קול ישראל"‏ ותחנת "קול ירושלים" שהופעלה במסגרת המנדט הבריטי. בשנות המדינה הראשונות פעל "קול ישראל" במסגרת משרד ראש הממשלה. ב-1965 הועבר למסגרת "רשות השידור" ומנהלה הכללי הראשון היה חנוך גבתון.
URL:https://zionismcalendar.co.il/event/%d7%91-13-%d7%91%d7%9e%d7%a8%d7%a5-1940-%d7%a9%d7%99%d7%93%d7%95%d7%a8%d7%94-%d7%94%d7%a8%d7%90%d7%a9%d7%95%d7%9f-%d7%a9%d7%9c-%d7%aa%d7%97%d7%a0%d7%aa-%d7%a7%d7%95%d7%9c-%d7%99%d7%a9%d7%a8%d7%90/2021-03-13/
ATTACH;FMTTYPE=image/jpeg:https://zionismcalendar.co.il/wp-content/uploads/2016/07/11.jpg
END:VEVENT
BEGIN:VEVENT
DTSTART;VALUE=DATE:20210313
DTEND;VALUE=DATE:20210314
DTSTAMP:20210523T004959
CREATED:20160715T192708Z
LAST-MODIFIED:20160715T192708Z
UID:10799-1615593600-1615679999@zionismcalendar.co.il
SUMMARY:ב-13 במרץ 1945-קיבוץ גזר עולה על הקרקע
DESCRIPTION:גזר הוא קיבוץ באזור השפלה כ-7 קילומטרים דרומית מזרחית לרמלה בסמוך לכביש 424 מלטרון לרמלה\, שייך למועצה אזורית גזר. הקיבוץ נקרא על שם העיר הכנענית העתיקה גזר שהתל שלה נמצא 2 קילומטרים דרומית לקיבוץ. היישוב הוקם בשנת 1945 על ידי עולים מאירופה. אנשי הקיבוץ המקורי עזבו את הקיבוץ ב־1961 ואז החליף הקיבוץ גרעינים מספר פעמים עד שבשנת 1974 התיישבו במקום עולים מארצות הברית. ענפי הקיבוץ הם בניין\, השכרת דירות\, חינוך\, כלבו\, נוי\, רפת\, אולם אירועים בשם "כתום". \nתמונה: הרפת בקיבוץ. מקור: ויקיפדיה.
URL:https://zionismcalendar.co.il/event/%d7%91-13-%d7%91%d7%9e%d7%a8%d7%a5-1945-%d7%a7%d7%99%d7%91%d7%95%d7%a5-%d7%92%d7%96%d7%a8-%d7%a2%d7%95%d7%9c%d7%94-%d7%a2%d7%9c-%d7%94%d7%a7%d7%a8%d7%a7%d7%a2/2021-03-13/
ATTACH;FMTTYPE=image/jpeg:https://zionismcalendar.co.il/wp-content/uploads/2016/07/12.jpg
END:VEVENT
END:VCALENDAR