BEGIN:VCALENDAR
VERSION:2.0
PRODID:-//Zionism Calendar - ECPv5.3.1//NONSGML v1.0//EN
CALSCALE:GREGORIAN
METHOD:PUBLISH
X-WR-CALNAME:Zionism Calendar
X-ORIGINAL-URL:https://zionismcalendar.co.il
X-WR-CALDESC:אירועים ל Zionism Calendar
BEGIN:VTIMEZONE
TZID:Asia/Jerusalem
BEGIN:DAYLIGHT
TZOFFSETFROM:+0200
TZOFFSETTO:+0300
TZNAME:IDT
DTSTART:20210326T000000
END:DAYLIGHT
BEGIN:STANDARD
TZOFFSETFROM:+0300
TZOFFSETTO:+0200
TZNAME:IST
DTSTART:20211030T230000
END:STANDARD
END:VTIMEZONE
BEGIN:VEVENT
DTSTART;VALUE=DATE:20210320
DTEND;VALUE=DATE:20210321
DTSTAMP:20210523T062908
CREATED:20160717T182805Z
LAST-MODIFIED:20160717T182805Z
UID:10777-1616198400-1616284799@zionismcalendar.co.il
SUMMARY:ב-20 במרץ 1917-נולד יגאל ידין
DESCRIPTION:יגאל ידין היה הרמטכ"ל השני של צה"ל\, ארכאולוג ופוליטיקאי. יגאל ידין נולד בירושלים והצטרף לארגון ההגנה ב-1933 הוא היה דמות מפתח בהנהגת ההגנה. הוא היה קצין המבצעים ועזר לתכנן ולפתח רבות מהאסטרטגיות שבהן נעשה שימוש במהלך מלחמת העצמאות. לאחר הקמת המדינה הוא מונה לרמטכ"ל השני של צה"ל ושירת בתפקידו זה בין השנים 1949-1952 בזמן זה ידין ארגן את הצבא הקיים\, את שיטת גיוס החובה ואת המילואים. בשנים שחלפו לאחר מכן ידין המשיך במחקריו בארכיאולוגיה ועתיקות. הוא לימד ופרסם מאמרים רבים. בין עבודותיו היותר מפורסמות יש את מצדה (1968) התפילין ממערות קומראן (1969) וב-1970 הוא היה לראש המכון לארכיאולוגיה באוניברסיטה הברית.
URL:https://zionismcalendar.co.il/event/%d7%91-20-%d7%91%d7%9e%d7%a8%d7%a5-1917/2021-03-20/
ATTACH;FMTTYPE=image/jpeg:https://zionismcalendar.co.il/wp-content/uploads/2016/07/81.jpg
END:VEVENT
END:VCALENDAR