BEGIN:VCALENDAR
VERSION:2.0
PRODID:-//Zionism Calendar - ECPv5.3.1//NONSGML v1.0//EN
CALSCALE:GREGORIAN
METHOD:PUBLISH
X-WR-CALNAME:Zionism Calendar
X-ORIGINAL-URL:https://zionismcalendar.co.il
X-WR-CALDESC:אירועים ל Zionism Calendar
BEGIN:VTIMEZONE
TZID:Asia/Jerusalem
BEGIN:DAYLIGHT
TZOFFSETFROM:+0200
TZOFFSETTO:+0300
TZNAME:IDT
DTSTART:20210326T000000
END:DAYLIGHT
BEGIN:STANDARD
TZOFFSETFROM:+0300
TZOFFSETTO:+0200
TZNAME:IST
DTSTART:20211030T230000
END:STANDARD
END:VTIMEZONE
BEGIN:VEVENT
DTSTART;VALUE=DATE:20210321
DTEND;VALUE=DATE:20210322
DTSTAMP:20210523T062939
CREATED:20160717T182939Z
LAST-MODIFIED:20160717T182939Z
UID:10776-1616284800-1616371199@zionismcalendar.co.il
SUMMARY:ב-21 במרץ 1937-הקיבוצים שער הגולן ומסדה עולים על הקרקע\, במסגרת יישובי חומה ומגדל
DESCRIPTION: שער הגולן הוא קיבוץ המשתייך לתנועת הקיבוץ הארצי ונמצא מדרום לכנרת ליד נהר הירדן וליד נהר הירמוך\, במפגש הגבולות עם ירדן וסוריה והשייך למועצה אזורית עמק הירדן. שמו ניתן לו בגלל מיקומו\, המהווה מעין שער כניסה לאזור רמת הגולן. קבוצת המייסדים עין הקורא שכללה עולים מצ'כיה ופולין התארגנה בשנת 1930 באזור ראשון לציון. ב-21 במרץ 1937 עלו על הקרקע כאחד מיישובי חומה ומגדל. מסדה הוא קיבוץ הנמצא בצפון בקעת הירדן\, דרומית לכנרת\, מזרחית לאפיק הירמוך ולקיבוץ שער הגולן. הקיבוץ שייך למועצה אזורית עמק הירדן. הקיבוץ הוקם בשנת 1937 על ידי חניכי תנועת הנוער הציונית "גורדוניה" מרומניה\, כיישוב חומה ומגדל.
URL:https://zionismcalendar.co.il/event/%d7%91-21-%d7%91%d7%9e%d7%a8%d7%a5-1937-%d7%94%d7%a7%d7%99%d7%91%d7%95%d7%a6%d7%99%d7%9d-%d7%a9%d7%a2%d7%a8-%d7%94%d7%92%d7%95%d7%9c%d7%9f-%d7%95%d7%9e%d7%a1%d7%93%d7%94-%d7%a2%d7%95%d7%9c%d7%99%d7%9d/2021-03-21/
ATTACH;FMTTYPE=image/jpeg:https://zionismcalendar.co.il/wp-content/uploads/2016/07/91.jpg
END:VEVENT
BEGIN:VEVENT
DTSTART;VALUE=DATE:20210321
DTEND;VALUE=DATE:20210322
DTSTAMP:20210523T062939
CREATED:20160717T183123Z
LAST-MODIFIED:20160717T183123Z
UID:10775-1616284800-1616371199@zionismcalendar.co.il
SUMMARY:ב-21 במרץ 1938-העלייה לחניתה
DESCRIPTION: מאות מלוחמי ההגנה ופלוגות השדה מסייעים בהקמת הקיבוץ החדש\, מיישובי חומה ומגדל בנקודת היישוב ההררית והמבודדת. בין העולים לחניתה – יצחק שדה\, יגאל אלון ומשה דיין.
URL:https://zionismcalendar.co.il/event/%d7%91-20-%d7%91%d7%9e%d7%a8%d7%a5-1938/2021-03-21/
ATTACH;FMTTYPE=image/jpeg:https://zionismcalendar.co.il/wp-content/uploads/2016/07/101.jpg
END:VEVENT
BEGIN:VEVENT
DTSTART;VALUE=DATE:20210321
DTEND;VALUE=DATE:20210322
DTSTAMP:20210523T062939
CREATED:20160717T183621Z
LAST-MODIFIED:20160717T183621Z
UID:10774-1616284800-1616371199@zionismcalendar.co.il
SUMMARY:ב-21 במרץ 1972-נולד רסאן עליאן
DESCRIPTION:עליאן הוא אלוף משנה בצה"ל\, הדרוזי הראשון שמונה לפקד על חטיבת גולני. עליאן התגייס בשנת 1990 לצה"ל ושובץ בחטיבת גולני\, בה התחיל כלוחם ואחר כך התקדם בהצלחה בסולם דרגות הפיקוד עד הגעתו לתפקיד מח"ט גולני. בעיני רבים מסמל אל"מ עליאן בשירותו לאורך השנים למען מדינת ישראל את שותפות הגורל והברית בין העדה הדרוזית בישראל לעם היהודי במדינת ישראל החולקים יחד עולם ערכים משותף.
URL:https://zionismcalendar.co.il/event/%d7%91/2021-03-21/
ATTACH;FMTTYPE=image/jpeg:https://zionismcalendar.co.il/wp-content/uploads/2016/07/111.jpg
END:VEVENT
END:VCALENDAR