BEGIN:VCALENDAR
VERSION:2.0
PRODID:-//Zionism Calendar - ECPv5.8.1//NONSGML v1.0//EN
CALSCALE:GREGORIAN
METHOD:PUBLISH
X-WR-CALNAME:Zionism Calendar
X-ORIGINAL-URL:https://zionismcalendar.co.il
X-WR-CALDESC:אירועים ל Zionism Calendar
BEGIN:VTIMEZONE
TZID:Asia/Jerusalem
BEGIN:DAYLIGHT
TZOFFSETFROM:+0200
TZOFFSETTO:+0300
TZNAME:IDT
DTSTART:20210326T000000
END:DAYLIGHT
BEGIN:STANDARD
TZOFFSETFROM:+0300
TZOFFSETTO:+0200
TZNAME:IST
DTSTART:20211030T230000
END:STANDARD
END:VTIMEZONE
BEGIN:VEVENT
DTSTART;VALUE=DATE:20210628
DTEND;VALUE=DATE:20210629
DTSTAMP:20210725T023359
CREATED:20160806T134648Z
LAST-MODIFIED:20160806T134648Z
UID:11065-1624838400-1624924799@zionismcalendar.co.il
SUMMARY:ב-28 ביוני 1948-צה"ל נשבע אמונים למדינת ישראל
DESCRIPTION:
URL:https://zionismcalendar.co.il/event/%d7%91-28-%d7%91%d7%99%d7%95%d7%a0%d7%99-1948-%d7%a6%d7%94%d7%9c-%d7%a0%d7%a9%d7%91%d7%a2-%d7%90%d7%9e%d7%95%d7%a0%d7%99%d7%9d-%d7%9c%d7%9e%d7%93%d7%99%d7%a0%d7%aa-%d7%99%d7%a9%d7%a8%d7%90%d7%9c-2021/
ATTACH;FMTTYPE=image/jpeg:https://zionismcalendar.co.il/wp-content/uploads/2016/08/112.jpg
END:VEVENT
BEGIN:VEVENT
DTSTART;VALUE=DATE:20210628
DTEND;VALUE=DATE:20210629
DTSTAMP:20210725T023359
CREATED:20160806T134742Z
LAST-MODIFIED:20160806T134742Z
UID:11064-1624838400-1624924799@zionismcalendar.co.il
SUMMARY:ב-28 ביוני 1967-מדינת ישראל מספחת את מזרח ירושלים
DESCRIPTION:מיד אחרי מלחמת ששת הימים הוסיפה הכנסת סעיף לפקודת סדרי השלטון והמשפט (סעיף 11ב)\, המסמיך את ממשלת ישראל להחיל בצו את החוק הישראלי על שטחים בתחומי ארץ ישראל (בגבולות המנדט הבריטי). הממשלה החליטה להחיל את החוק הישראלי גם על השטח המכונה מזרח ירושלים\, כלומר – על שטח עיריית ירושלים הירדנית\, ובנוסף על כפרים\, עיירות ושטחים פתוחים שנמצאו מעבר לקו הירוק\, מצפון\, ממזרח ומדרום לירושלים. מרבית הקהילה הבינלאומית אינה מכירה בהחלת החוק הישראלי ורואה במזרח ירושלים חלק מהשטחים המוחזקים\, ובשכונות היהודיות שהוקמו בה – התנחלויות‏. ממשלת ישראל טענה במספר פורומים בינלאומיים כי החלת החוק על השטח אינה סיפוח\, אולם לפי פסיקת בית המשפט העליון\, חוקי מדינת ישראל חלים במלואם גם על מזרח ירושלים\, ולכן דינו כסיפוח.
URL:https://zionismcalendar.co.il/event/%d7%91-28-%d7%91%d7%99%d7%95%d7%a0%d7%99-1967-%d7%9e%d7%93%d7%99%d7%a0%d7%aa-%d7%99%d7%a9%d7%a8%d7%90%d7%9c-%d7%9e%d7%a1%d7%a4%d7%97%d7%aa-%d7%90%d7%aa-%d7%9e%d7%96%d7%a8%d7%97-%d7%99%d7%a8%d7%95-2021/
END:VEVENT
BEGIN:VEVENT
DTSTART;VALUE=DATE:20210628
DTEND;VALUE=DATE:20210629
DTSTAMP:20210725T023359
CREATED:20160806T134844Z
LAST-MODIFIED:20160806T134844Z
UID:11063-1624838400-1624924799@zionismcalendar.co.il
SUMMARY:ב-28 ביוני 1984-נפטר יגאל ידין
DESCRIPTION:ידין נולד ב-1917  היה מפקד הצבא בפועל בימי מלחמת העצמאות\, הרמטכ”ל השני של צה”ל\, ארכאולוג ופוליטיקאי ישראלי\, חתן פרס ישראל למדעי היהדות ה’תשט”ז (1956).
URL:https://zionismcalendar.co.il/event/%d7%91-28-%d7%91%d7%99%d7%95%d7%a0%d7%99-1984-%d7%a0%d7%a4%d7%98%d7%a8-%d7%99%d7%92%d7%90%d7%9c-%d7%99%d7%93%d7%99%d7%9f-2021-06-28/
ATTACH;FMTTYPE=image/jpeg:https://zionismcalendar.co.il/wp-content/uploads/2016/08/27.jpg
END:VEVENT
END:VCALENDAR