BEGIN:VCALENDAR
VERSION:2.0
PRODID:-//Zionism Calendar - ECPv5.8.1//NONSGML v1.0//EN
CALSCALE:GREGORIAN
METHOD:PUBLISH
X-WR-CALNAME:Zionism Calendar
X-ORIGINAL-URL:https://zionismcalendar.co.il
X-WR-CALDESC:אירועים ל Zionism Calendar
BEGIN:VTIMEZONE
TZID:Asia/Jerusalem
BEGIN:DAYLIGHT
TZOFFSETFROM:+0200
TZOFFSETTO:+0300
TZNAME:IDT
DTSTART:20210326T000000
END:DAYLIGHT
BEGIN:STANDARD
TZOFFSETFROM:+0300
TZOFFSETTO:+0200
TZNAME:IST
DTSTART:20211030T230000
END:STANDARD
END:VTIMEZONE
BEGIN:VEVENT
DTSTART;VALUE=DATE:20210702
DTEND;VALUE=DATE:20210703
DTSTAMP:20210725T023611
CREATED:20160808T185810Z
LAST-MODIFIED:20160808T185810Z
UID:11076-1625184000-1625270399@zionismcalendar.co.il
SUMMARY:ב-2 ביולי 2011-נפטר אורי דביר
DESCRIPTION: אורי דביר (1931-2011): סייר\, גאוגרף\, יושב ראש הוועדה לשבילי ישראל בחברה להגנת הטבע ואיש תקשורת ומחבר מדריכים פופולריים בנושא הטיולים. מחלוצי סימון ומיפוי השבילים בישראל\, יוזם פרויקט שביל ישראל ומקים החוג ללימודי ארץ ישראל במכללת בית ברל\, שעמד בראשו.
URL:https://zionismcalendar.co.il/event/%d7%91-2-%d7%91%d7%99%d7%95%d7%9c%d7%99-2011-%d7%a0%d7%a4%d7%98%d7%a8-%d7%90%d7%95%d7%a8%d7%99-%d7%93%d7%91%d7%99%d7%a8-2021-07-02/
ATTACH;FMTTYPE=image/jpeg:https://zionismcalendar.co.il/wp-content/uploads/2016/08/28.jpg
END:VEVENT
END:VCALENDAR